BEGIN:VCALENDAR
VERSION:2.0
PRODID:-//Library Market//iCal Export//EN
BEGIN:VEVENT
SUMMARY:Pie Crust From Scratch
UID:57207
DTSTAMP:20260421T100000Z
DTSTART:20260910T230000Z
DTEND:20260911T000000Z
LOCATION:251 Union Plaza Dr., Union, MO 63084, United States
ROOM: Meeting Room B &amp; C
DESCRIPTION:Learn to make pie crust from scratch from Amanda.
URL:https://scenicregional.librarycalendar.com/event/pie-crust-scratch-572
 07
END:VEVENT
END:VCALENDAR
